0.014726839932528
0.000000000000000
0.000000000000000
-0.014726839932528
-166.284681479714010
64.835516829057212
