0.014545454545455
0.000000000000000
0.000000000000000
-0.014545454545455
-119.012361866343990
36.487726204612002
