0.014545454545455
0.000000000000000
0.000000000000000
-0.014545454545455
-107.185366016735000
48.117727272727301
