0.014545454545455
0.000000000000000
0.000000000000000
-0.014545454545455
-100.722360950817010
45.312726967551498
