0.014545454545455
0.000000000000000
0.000000000000000
-0.014545454545455
-81.834360462535500
42.967725746848402
