0.014545454545455
0.000000000000000
0.000000000000000
-0.014545454545455
-90.300363880504307
41.967725746848402
