0.014545454545455
0.000000000000000
0.000000000000000
-0.014545454545455
-90.056360584605798
45.351728432395198
