0.008537720642090
0.000000000000000
0.000000000000000
-0.008537720642090
-117.222427672882160
34.843294303436252
