0.010661452026367
0.000000000000000
0.000000000000000
-0.010661452026367
-100.529817711486570
50.460426399841339
