0.008680657958984
0.000000000000000
0.000000000000000
-0.008680657958984
-104.414407455444320
36.031929959106463
