0.009402863311768
0.000000000000000
0.000000000000000
-0.009402863311768
-92.158331435775736
42.737262843704215
