0.008935935872396
0.000000000000000
0.000000000000000
-0.008935935872396
-89.970346204427059
39.179842567545585
