0.010781801350911
0.000000000000000
0.000000000000000
-0.010781801350911
-109.859084990437720
51.159670816039991
