0.008719126808860
0.000000000000000
0.000000000000000
-0.008719126808860
-113.808377075444680
36.962596491283051
