0.008680657958984
0.000000000000000
0.000000000000000
-0.008680657958984
-101.575832302856430
36.735063253784190
