0.008437295587713
0.000000000000000
0.000000000000000
-0.008437295587713
-109.234286373734730
34.179718531771542
