0.008466061401367
0.000000000000000
0.000000000000000
-0.008466061401367
-113.170242860412640
34.222593171691848
