0.010513277920810
0.000000000000000
0.000000000000000
-0.010513277920810
-95.370290427467992
49.722896589799397
