0.010508026123047
0.000000000000000
0.000000000000000
-0.010508026123047
-107.953153579711510
44.036453598022426
