0.009894306363192
0.000000000000000
0.000000000000000
-0.009894306363192
-119.197345915444170
46.212440999894525
