0.010479431929155
0.000000000000000
0.000000000000000
-0.010479431929155
-103.904367237049030
49.653379211037397
