0.008815536221591
0.000000000000000
0.000000000000000
-0.008815536221591
-104.359055672940040
37.644367177512486
