0.009014243164063
0.000000000000000
0.000000000000000
-0.009014243164063
-79.717674824218733
39.468316669921890
