0.014144786487926
0.000000000000000
0.000000000000000
-0.014144786487926
-150.537358426180990
63.344745691472816
