0.014545454545455
0.000000000000000
0.000000000000000
-0.014545454545455
-116.026361805308990
37.281728737571001
