0.014545454545455
0.000000000000000
0.000000000000000
-0.014545454545455
-151.855356556286010
69.028730385520220
