0.014545454545455
0.000000000000000
0.000000000000000
-0.014545454545455
-160.983362537731010
62.672727577903103
