0.014545454545455
0.000000000000000
0.000000000000000
-0.014545454545455
-150.657358509411010
63.454729073264403
