0.014545454545455
0.000000000000000
0.000000000000000
-0.014545454545455
-155.705362659801010
64.718729012229218
