0.014545454545455
0.000000000000000
0.000000000000000
-0.014545454545455
-169.649362903942010
68.504728310324907
