0.014545454545455
0.000000000000000
0.000000000000000
-0.014545454545455
-166.230356556286010
64.785726540305419
