0.00951144131747161
0.000000
0.000000
-0.00951144131747161
-75.7126750876687
43.4768917707963
