0.00836472944779828
0.000000
0.000000
-0.00836472944779828
-90.7452343333851
32.9751190879128
