0.00873660000887786
0.000000
0.000000
-0.00873660000887786
-113.81361029885
36.9721980146928
