0.0145454545454545
0.000000
0.000000
-0.0145454545454545
-127.320360523571
49.7077274253152
