0.0145454545454545
0.000000
0.000000
-0.0145454545454545
-126.253366810192
41.1477260520241
