0.0145454545454545
0.000000
0.000000
-0.0145454545454545
-92.6853660167347
37.8897266318581
