0.014545454545455
0.000000000000000
0.000000000000000
-0.014545454545455
-88.685366016734704
34.393990863676443
