0.014545454545455
0.000000000000000
0.000000000000000
-0.014545454545455
-86.758364063609704
31.697727196433299
