0.014545454545455
0.000000000000000
0.000000000000000
-0.014545454545455
-92.596361500133199
34.671728127219502
