0.014545454545455
0.000000000000000
0.000000000000000
-0.014545454545455
-85.010362964976906
32.105728142478199
