0.014545454545455
0.000000000000000
0.000000000000000
-0.014545454545455
-94.181360584605798
34.329727165915699
