0.014545454545455
0.000000000000000
0.000000000000000
-0.014545454545455
-97.572367054332403
34.117727272727301
