0.014545454545455
0.000000000000000
0.000000000000000
-0.014545454545455
-86.074367115367508
34.460726525046603
