0.014545454545455
0.000000000000000
0.000000000000000
-0.014545454545455
-94.340364796031594
36.272726052024097
