0.014545454545455
0.000000000000000
0.000000000000000
-0.014545454545455
-91.126360279430003
37.164728157737002
