0.014545454545455
0.000000000000000
0.000000000000000
-0.014545454545455
-84.769365650523795
29.603727333762400
