0.014545454545454
0.000000000000000
0.000000000000000
-0.014545454545454
-94.176512099757204
34.315181711370144
