0.014545454545455
0.000000000000000
0.000000000000000
-0.014545454545455
-99.435366016734704
33.464727394797599
