0.014545454545455
0.000000000000000
0.000000000000000
-0.014545454545455
-101.867365223278000
31.776727669455802
